BEGIN:VCALENDAR
VERSION:2.0
PRODID:-//Tukios.com/
BEGIN:VEVENT
UID:c9ec1beb-3b41-48c4-be96-422ac665beb2@www.evergreenfuneralhomes.com
DTSTAMP:20260422T180102Z
DTSTART:20260424T200000Z
DTEND:20260425T010000Z
SUMMARY:Viewing for WANDA JENESE DAVIS
DESCRIPTION:
URL:https://www.evergreenfuneralhomes.com/obituaries/wanda-davis
LOCATION:Evergreen Memorial Funeral Homes 6449 University Hills BLVD  
	Dallas TX 75241
GEO:32.6692069;-96.8065065
END:VEVENT
END:VCALENDAR