BEGIN:VCALENDAR
VERSION:2.0
PRODID:-//Tukios.com/
BEGIN:VEVENT
UID:0a91128e-feae-4b0d-b954-8f2b7b6feef7@www.evergreenfuneralhomes.com
DTSTAMP:20260422T175832Z
DTSTART:20260425T150000Z
DTEND:20260425T160000Z
SUMMARY:Celebration Of Life for WANDA JENESE DAVIS
DESCRIPTION:
URL:https://www.evergreenfuneralhomes.com/obituaries/wanda-davis
LOCATION:New Covenant Christian Fellowship 2025 West Wheatland Road  
	Dallas TX 75232
GEO:32.6481591;-96.8506925
END:VEVENT
END:VCALENDAR