BEGIN:VCALENDAR
VERSION:2.0
PRODID:-//Tukios.com/
BEGIN:VEVENT
UID:ee9e8d65-4c2a-4668-8ba1-32fdc2b2212f@www.evergreenfuneralhomes.com
DTSTAMP:20260421T211211Z
DTSTART:20260502T180000Z
DTEND:20260502T190000Z
SUMMARY:Graveside Service
DESCRIPTION:
URL:https://www.evergreenfuneralhomes.com/obituaries/sammie-carraway-jr
LOCATION:Lewis Chapel Cemetery Hollybrook Dr  Longview  75605
GEO:32.5320161;-94.7262215
END:VEVENT
END:VCALENDAR