BEGIN:VCALENDAR
VERSION:2.0
PRODID:-//Tukios.com/
BEGIN:VEVENT
UID:65f63ff0-8fee-46a8-a7d8-4b600bb76427@www.evergreenfuneralhomes.com
DTSTAMP:20260422T212130Z
DTSTART:20260501
SUMMARY:Burial
DESCRIPTION:
URL:https://www.evergreenfuneralhomes.com/obituaries/ollie-king
LOCATION: 8100 Fireside Drive  Dallas TX 75217
GEO:32.6972224;-96.6820703
END:VEVENT
END:VCALENDAR