BEGIN:VCALENDAR
VERSION:2.0
PRODID:-//Tukios.com/
BEGIN:VEVENT
UID:c117c572-a381-4c11-b60b-cb4fa85263c3@www.evergreenfuneralhomes.com
DTSTAMP:20260422T211856Z
DTSTART:20260430T200000Z
DTEND:20260501T010000Z
SUMMARY:Visitation
DESCRIPTION:
URL:https://www.evergreenfuneralhomes.com/obituaries/ollie-king
LOCATION: 6449 University Hills BLVD  Dallas TX 75241
GEO:32.6692069;-96.8065065
END:VEVENT
END:VCALENDAR