BEGIN:VCALENDAR
VERSION:2.0
PRODID:-//Tukios.com/
BEGIN:VEVENT
UID:32f5a21a-62cf-4199-bd13-2437f105dd69@www.evergreenfuneralhomes.com
DTSTAMP:20260422T212748Z
DTSTART:20260501T160000Z
DTEND:20260501T173000Z
SUMMARY:Celebration of Life
DESCRIPTION:
URL:https://www.evergreenfuneralhomes.com/obituaries/ollie-king
LOCATION:Church Christian Workers 2762 E Overton Rd  Dallas TX 75216
GEO:32.7122318;-96.7814622
END:VEVENT
END:VCALENDAR