BEGIN:VCALENDAR
VERSION:2.0
PRODID:-//Tukios.com/
BEGIN:VEVENT
UID:5a71f0bc-03c3-4166-8763-de3cbf233c11@www.evergreenfuneralhomes.com
DTSTAMP:20260423T015401Z
DTSTART:20260430T230000Z
DTEND:20260501T000000Z
SUMMARY:Rosary
DESCRIPTION:
URL:https://www.evergreenfuneralhomes.com/obituaries/erica-kyser
LOCATION: 6449 University Hills BLVD  Dallas TX 75241
GEO:32.6692069;-96.8065065
END:VEVENT
END:VCALENDAR