BEGIN:VCALENDAR
VERSION:2.0
PRODID:-//Tukios.com/
BEGIN:VEVENT
UID:cf01faff-253f-4c65-a084-752a0803a858@www.evergreenfuneralhomes.com
DTSTAMP:20260423T015054Z
DTSTART:20260501T173000Z
DTEND:20260501T183000Z
SUMMARY:Celebration of Life
DESCRIPTION:
URL:https://www.evergreenfuneralhomes.com/obituaries/erica-kyser
LOCATION: 6449 University Hills BLVD  Dallas TX 75241
GEO:32.6692069;-96.8065065
END:VEVENT
END:VCALENDAR