BEGIN:VCALENDAR
VERSION:2.0
PRODID:-//Tukios.com/
BEGIN:VEVENT
UID:cdda6950-1107-4e66-acf3-9525e26ed7a5@www.evergreenfuneralhomes.com
DTSTAMP:20260423T015246Z
DTSTART:20260501T184500Z
DTEND:20260501T194500Z
SUMMARY:Burial
DESCRIPTION:
URL:https://www.evergreenfuneralhomes.com/obituaries/erica-kyser
LOCATION: 6300 S R L Thornton Fwy  Dallas TX 75232
GEO:32.6708229;-96.8214278
END:VEVENT
END:VCALENDAR