BEGIN:VCALENDAR
VERSION:2.0
PRODID:-//Tukios.com/
BEGIN:VEVENT
UID:41890cde-a767-4bb2-bbe6-7e5783c81630@www.evergreenfuneralhomes.com
DTSTAMP:20260422T231347Z
DTSTART:20260508T170000Z
DTEND:20260508T180000Z
SUMMARY:Burial
DESCRIPTION:
URL:https://www.evergreenfuneralhomes.com/obituaries/cynthia-harris
LOCATION: 8100 Fireside Drive  Dallas TX 75217
GEO:32.6972224;-96.6820703
END:VEVENT
END:VCALENDAR