BEGIN:VCALENDAR
VERSION:2.0
PRODID:-//Tukios.com/
BEGIN:VEVENT
UID:8e135161-8cfe-4b5a-9fe0-8c6edf6255ae@www.evergreenfuneralhomes.com
DTSTAMP:20260422T231526Z
DTSTART:20260508T150000Z
DTEND:20260508T160000Z
SUMMARY:Celebration of Life
DESCRIPTION:
URL:https://www.evergreenfuneralhomes.com/obituaries/cynthia-harris
LOCATION: 6449 University Hills BLVD  Dallas TX 75241
GEO:32.6692069;-96.8065065
END:VEVENT
END:VCALENDAR