BEGIN:VCALENDAR
VERSION:2.0
PRODID:-//Tukios.com/
BEGIN:VEVENT
UID:7ab4f7dc-1408-4630-b252-7415744769bb@www.evergreenfuneralhomes.com
DTSTAMP:20260422T232042Z
DTSTART:20260507T200000Z
DTEND:20260508T010000Z
SUMMARY:Visitation
DESCRIPTION:
URL:https://www.evergreenfuneralhomes.com/obituaries/cynthia-harris
LOCATION: 6449 University Hills BLVD  Dallas TX 75241
GEO:32.6692069;-96.8065065
END:VEVENT
END:VCALENDAR