BEGIN:VCALENDAR
VERSION:2.0
PRODID:-//Tukios.com/
BEGIN:VEVENT
UID:cc82845e-6ef8-4ced-8587-ddaa52dfdadb@www.evergreenfuneralhomes.com
DTSTAMP:20260425T035540Z
DTSTART:20260504T153000Z
DTEND:20260504T163000Z
SUMMARY:Burial
DESCRIPTION:
URL:https://www.evergreenfuneralhomes.com/obituaries/betty-tanner
LOCATION: 6300 S R L Thornton Fwy  Dallas TX 75232
GEO:32.6708229;-96.8214278
END:VEVENT
END:VCALENDAR