BEGIN:VCALENDAR
VERSION:2.0
PRODID:-//Tukios.com/
BEGIN:VEVENT
UID:efc47535-2287-4095-89b7-290888a7f3f6@www.evergreenfuneralhomes.com
DTSTAMP:20260425T035142Z
DTSTART:20260501T180000Z
DTEND:20260501T190000Z
SUMMARY:Celebration of Life
DESCRIPTION:
URL:https://www.evergreenfuneralhomes.com/obituaries/betty-tanner
LOCATION:St. Luke "Community" United Methodist Church 5710 E. R.L. 
	Thornton Fwy  Dallas TX 75223
GEO:32.7906786;-96.7434935
END:VEVENT
END:VCALENDAR