BEGIN:VCALENDAR
VERSION:2.0
PRODID:-//Tukios.com/
BEGIN:VEVENT
UID:f616aa05-a4d9-4a04-a2e2-b8530ead7dc3@www.evergreenfuneralhomes.com
DTSTAMP:20260425T034945Z
DTSTART:20260501T001500Z
DTEND:20260501T011500Z
SUMMARY:Memorial Gathering
DESCRIPTION:
URL:https://www.evergreenfuneralhomes.com/obituaries/betty-tanner
LOCATION: 6449 University Hills BLVD  Dallas TX 75241
GEO:32.6692069;-96.8065065
END:VEVENT
END:VCALENDAR