BEGIN:VCALENDAR
VERSION:2.0
PRODID:-//Tukios.com/
BEGIN:VEVENT
UID:a5e8f124-f88f-49bc-9000-939b4a65620b@www.evergreenfuneralhomes.com
DTSTAMP:20260420T235000Z
DTSTART:20260502T173000Z
DTEND:20260502T183000Z
SUMMARY:Celebration of Life
DESCRIPTION:
URL:https://www.evergreenfuneralhomes.com/obituaries/arthur-johnson-sr
LOCATION: 6449 University Hills BLVD  Dallas TX 75241
GEO:32.6692069;-96.8065065
END:VEVENT
END:VCALENDAR