BEGIN:VCALENDAR
VERSION:2.0
PRODID:-//Tukios.com/
BEGIN:VEVENT
UID:e0271634-0fe5-43bb-9b78-810c4d80151f@www.evergreenfuneralhomes.com
DTSTAMP:20260420T235414Z
DTSTART:20260501T200000Z
DTEND:20260502T010000Z
SUMMARY:Visitation
DESCRIPTION:
URL:https://www.evergreenfuneralhomes.com/obituaries/arthur-johnson-sr
LOCATION: 6449 University Hills BLVD  Dallas TX 75241
GEO:32.6692069;-96.8065065
END:VEVENT
END:VCALENDAR